BEGIN:VCALENDAR
VERSION:2.0
PRODID:DPCALENDAR
CALSCALE:GREGORIAN
X-WR-TIMEZONE:UTC
BEGIN:VEVENT
DTSTART;VALUE=DATE:20251225
DTEND;VALUE=DATE:20251226
RRULE:FREQ=YEARLY;INTERVAL=1;UNTIL=20501215T235900Z
UID:E3B7EF00-B1BA-49A9-ADED-C71915524C08
SUMMARY:Christmas
CREATED:20251015T035708Z
DTSTAMP:20251015T035708Z
URL:https://eviejewelarthur.com/index.php/calender/christmas
LAST-MODIFIED:20251015T035708Z
SEQUENCE:0
LOCATION:SR 131 8119\, 37888 Washburn\, Tennessee\, United States
GEO:36.29318990;-83.59372100
X-LOCATION-DISPLAYNAME:Washburn
X-ACCESS:1
X-HITS:6
X-COLOR:3366cc
X-SHOW-END-TIME:1
END:VEVENT
BEGIN:VEVENT
DTSTART;VALUE=DATE:20291225
DTEND;VALUE=DATE:20291226
UID:E3B7EF00-B1BA-49A9-ADED-C71915524C08
RECURRENCE-ID;VALUE=DATE:20291225
SUMMARY:Christmas
CREATED:20251015T035708Z
DTSTAMP:20251015T035708Z
URL:https://eviejewelarthur.com/index.php/calender/christmas-1892851200
LAST-MODIFIED:20251015T035709Z
SEQUENCE:1
LOCATION:SR 131 8119\, 37888 Washburn\, Tennessee\, United States
GEO:36.29318990;-83.59372100
X-LOCATION-DISPLAYNAME:Washburn
X-ACCESS:1
X-HITS:630
X-COLOR:3366cc
X-SHOW-END-TIME:1
END:VEVENT
BEGIN:VEVENT
DTSTART;VALUE=DATE:20301225
DTEND;VALUE=DATE:20301226
UID:E3B7EF00-B1BA-49A9-ADED-C71915524C08
RECURRENCE-ID;VALUE=DATE:20301225
SUMMARY:Christmas
CREATED:20251015T035708Z
DTSTAMP:20251015T035708Z
URL:https://eviejewelarthur.com/index.php/calender/christmas-1924387200
LAST-MODIFIED:20251015T035709Z
SEQUENCE:1
LOCATION:SR 131 8119\, 37888 Washburn\, Tennessee\, United States
GEO:36.29318990;-83.59372100
X-LOCATION-DISPLAYNAME:Washburn
X-ACCESS:1
X-HITS:638
X-COLOR:3366cc
X-SHOW-END-TIME:1
END:VEVENT
BEGIN:VEVENT
DTSTART;VALUE=DATE:20311225
DTEND;VALUE=DATE:20311226
UID:E3B7EF00-B1BA-49A9-ADED-C71915524C08
RECURRENCE-ID;VALUE=DATE:20311225
SUMMARY:Christmas
CREATED:20251015T035708Z
DTSTAMP:20251015T035708Z
URL:https://eviejewelarthur.com/index.php/calender/christmas-1955923200
LAST-MODIFIED:20251015T035709Z
SEQUENCE:1
LOCATION:SR 131 8119\, 37888 Washburn\, Tennessee\, United States
GEO:36.29318990;-83.59372100
X-LOCATION-DISPLAYNAME:Washburn
X-ACCESS:1
X-HITS:617
X-COLOR:3366cc
X-SHOW-END-TIME:1
END:VEVENT
BEGIN:VEVENT
DTSTART;VALUE=DATE:20321225
DTEND;VALUE=DATE:20321226
UID:E3B7EF00-B1BA-49A9-ADED-C71915524C08
RECURRENCE-ID;VALUE=DATE:20321225
SUMMARY:Christmas
CREATED:20251015T035708Z
DTSTAMP:20251015T035708Z
URL:https://eviejewelarthur.com/index.php/calender/christmas-1987545600
LAST-MODIFIED:20251015T035709Z
SEQUENCE:1
LOCATION:SR 131 8119\, 37888 Washburn\, Tennessee\, United States
GEO:36.29318990;-83.59372100
X-LOCATION-DISPLAYNAME:Washburn
X-ACCESS:1
X-HITS:614
X-COLOR:3366cc
X-SHOW-END-TIME:1
END:VEVENT
BEGIN:VEVENT
DTSTART;VALUE=DATE:20331225
DTEND;VALUE=DATE:20331226
UID:E3B7EF00-B1BA-49A9-ADED-C71915524C08
RECURRENCE-ID;VALUE=DATE:20331225
SUMMARY:Christmas
CREATED:20251015T035708Z
DTSTAMP:20251015T035708Z
URL:https://eviejewelarthur.com/index.php/calender/christmas-2019081600
LAST-MODIFIED:20251015T035709Z
SEQUENCE:1
LOCATION:SR 131 8119\, 37888 Washburn\, Tennessee\, United States
GEO:36.29318990;-83.59372100
X-LOCATION-DISPLAYNAME:Washburn
X-ACCESS:1
X-HITS:617
X-COLOR:3366cc
X-SHOW-END-TIME:1
END:VEVENT
BEGIN:VEVENT
DTSTART;VALUE=DATE:20341225
DTEND;VALUE=DATE:20341226
UID:E3B7EF00-B1BA-49A9-ADED-C71915524C08
RECURRENCE-ID;VALUE=DATE:20341225
SUMMARY:Christmas
CREATED:20251015T035708Z
DTSTAMP:20251015T035708Z
URL:https://eviejewelarthur.com/index.php/calender/christmas-2050617600
LAST-MODIFIED:20251015T035709Z
SEQUENCE:1
LOCATION:SR 131 8119\, 37888 Washburn\, Tennessee\, United States
GEO:36.29318990;-83.59372100
X-LOCATION-DISPLAYNAME:Washburn
X-ACCESS:1
X-HITS:601
X-COLOR:3366cc
X-SHOW-END-TIME:1
END:VEVENT
BEGIN:VEVENT
DTSTART;VALUE=DATE:20351225
DTEND;VALUE=DATE:20351226
UID:E3B7EF00-B1BA-49A9-ADED-C71915524C08
RECURRENCE-ID;VALUE=DATE:20351225
SUMMARY:Christmas
CREATED:20251015T035708Z
DTSTAMP:20251015T035708Z
URL:https://eviejewelarthur.com/index.php/calender/christmas-2082153600
LAST-MODIFIED:20251015T035709Z
SEQUENCE:1
LOCATION:SR 131 8119\, 37888 Washburn\, Tennessee\, United States
GEO:36.29318990;-83.59372100
X-LOCATION-DISPLAYNAME:Washburn
X-ACCESS:1
X-HITS:604
X-COLOR:3366cc
X-SHOW-END-TIME:1
END:VEVENT
BEGIN:VEVENT
DTSTART;VALUE=DATE:20361225
DTEND;VALUE=DATE:20361226
UID:E3B7EF00-B1BA-49A9-ADED-C71915524C08
RECURRENCE-ID;VALUE=DATE:20361225
SUMMARY:Christmas
CREATED:20251015T035708Z
DTSTAMP:20251015T035708Z
URL:https://eviejewelarthur.com/index.php/calender/christmas-2113776000
LAST-MODIFIED:20251015T035709Z
SEQUENCE:1
LOCATION:SR 131 8119\, 37888 Washburn\, Tennessee\, United States
GEO:36.29318990;-83.59372100
X-LOCATION-DISPLAYNAME:Washburn
X-ACCESS:1
X-HITS:622
X-COLOR:3366cc
X-SHOW-END-TIME:1
END:VEVENT
BEGIN:VEVENT
DTSTART;VALUE=DATE:20371225
DTEND;VALUE=DATE:20371226
UID:E3B7EF00-B1BA-49A9-ADED-C71915524C08
RECURRENCE-ID;VALUE=DATE:20371225
SUMMARY:Christmas
CREATED:20251015T035708Z
DTSTAMP:20251015T035708Z
URL:https://eviejewelarthur.com/index.php/calender/christmas-2145312000
LAST-MODIFIED:20251015T035709Z
SEQUENCE:1
LOCATION:SR 131 8119\, 37888 Washburn\, Tennessee\, United States
GEO:36.29318990;-83.59372100
X-LOCATION-DISPLAYNAME:Washburn
X-ACCESS:1
X-HITS:591
X-COLOR:3366cc
X-SHOW-END-TIME:1
END:VEVENT
BEGIN:VEVENT
DTSTART;VALUE=DATE:20381225
DTEND;VALUE=DATE:20381226
UID:E3B7EF00-B1BA-49A9-ADED-C71915524C08
RECURRENCE-ID;VALUE=DATE:20381225
SUMMARY:Christmas
CREATED:20251015T035708Z
DTSTAMP:20251015T035708Z
URL:https://eviejewelarthur.com/index.php/calender/christmas-2176848000
LAST-MODIFIED:20251015T035709Z
SEQUENCE:1
LOCATION:SR 131 8119\, 37888 Washburn\, Tennessee\, United States
GEO:36.29318990;-83.59372100
X-LOCATION-DISPLAYNAME:Washburn
X-ACCESS:1
X-HITS:584
X-COLOR:3366cc
X-SHOW-END-TIME:1
END:VEVENT
BEGIN:VEVENT
DTSTART;VALUE=DATE:20391225
DTEND;VALUE=DATE:20391226
UID:E3B7EF00-B1BA-49A9-ADED-C71915524C08
RECURRENCE-ID;VALUE=DATE:20391225
SUMMARY:Christmas
CREATED:20251015T035708Z
DTSTAMP:20251015T035708Z
URL:https://eviejewelarthur.com/index.php/calender/christmas-2208384000
LAST-MODIFIED:20251015T035709Z
SEQUENCE:1
LOCATION:SR 131 8119\, 37888 Washburn\, Tennessee\, United States
GEO:36.29318990;-83.59372100
X-LOCATION-DISPLAYNAME:Washburn
X-ACCESS:1
X-HITS:585
X-COLOR:3366cc
X-SHOW-END-TIME:1
END:VEVENT
BEGIN:VEVENT
DTSTART;VALUE=DATE:20401225
DTEND;VALUE=DATE:20401226
UID:E3B7EF00-B1BA-49A9-ADED-C71915524C08
RECURRENCE-ID;VALUE=DATE:20401225
SUMMARY:Christmas
CREATED:20251015T035708Z
DTSTAMP:20251015T035708Z
URL:https://eviejewelarthur.com/index.php/calender/christmas-2240006400
LAST-MODIFIED:20251015T035709Z
SEQUENCE:1
LOCATION:SR 131 8119\, 37888 Washburn\, Tennessee\, United States
GEO:36.29318990;-83.59372100
X-LOCATION-DISPLAYNAME:Washburn
X-ACCESS:1
X-HITS:586
X-COLOR:3366cc
X-SHOW-END-TIME:1
END:VEVENT
BEGIN:VEVENT
DTSTART;VALUE=DATE:20411225
DTEND;VALUE=DATE:20411226
UID:E3B7EF00-B1BA-49A9-ADED-C71915524C08
RECURRENCE-ID;VALUE=DATE:20411225
SUMMARY:Christmas
CREATED:20251015T035708Z
DTSTAMP:20251015T035708Z
URL:https://eviejewelarthur.com/index.php/calender/christmas-2271542400
LAST-MODIFIED:20251015T035709Z
SEQUENCE:1
LOCATION:SR 131 8119\, 37888 Washburn\, Tennessee\, United States
GEO:36.29318990;-83.59372100
X-LOCATION-DISPLAYNAME:Washburn
X-ACCESS:1
X-HITS:582
X-COLOR:3366cc
X-SHOW-END-TIME:1
END:VEVENT
BEGIN:VEVENT
DTSTART;VALUE=DATE:20421225
DTEND;VALUE=DATE:20421226
UID:E3B7EF00-B1BA-49A9-ADED-C71915524C08
RECURRENCE-ID;VALUE=DATE:20421225
SUMMARY:Christmas
CREATED:20251015T035708Z
DTSTAMP:20251015T035708Z
URL:https://eviejewelarthur.com/index.php/calender/christmas-2303078400
LAST-MODIFIED:20251015T035709Z
SEQUENCE:1
LOCATION:SR 131 8119\, 37888 Washburn\, Tennessee\, United States
GEO:36.29318990;-83.59372100
X-LOCATION-DISPLAYNAME:Washburn
X-ACCESS:1
X-HITS:578
X-COLOR:3366cc
X-SHOW-END-TIME:1
END:VEVENT
BEGIN:VEVENT
DTSTART;VALUE=DATE:20431225
DTEND;VALUE=DATE:20431226
UID:E3B7EF00-B1BA-49A9-ADED-C71915524C08
RECURRENCE-ID;VALUE=DATE:20431225
SUMMARY:Christmas
CREATED:20251015T035708Z
DTSTAMP:20251015T035708Z
URL:https://eviejewelarthur.com/index.php/calender/christmas-2334614400
LAST-MODIFIED:20251015T035709Z
SEQUENCE:1
LOCATION:SR 131 8119\, 37888 Washburn\, Tennessee\, United States
GEO:36.29318990;-83.59372100
X-LOCATION-DISPLAYNAME:Washburn
X-ACCESS:1
X-HITS:569
X-COLOR:3366cc
X-SHOW-END-TIME:1
END:VEVENT
BEGIN:VEVENT
DTSTART;VALUE=DATE:20441225
DTEND;VALUE=DATE:20441226
UID:E3B7EF00-B1BA-49A9-ADED-C71915524C08
RECURRENCE-ID;VALUE=DATE:20441225
SUMMARY:Christmas
CREATED:20251015T035708Z
DTSTAMP:20251015T035708Z
URL:https://eviejewelarthur.com/index.php/calender/christmas-2366236800
LAST-MODIFIED:20251015T035709Z
SEQUENCE:1
LOCATION:SR 131 8119\, 37888 Washburn\, Tennessee\, United States
GEO:36.29318990;-83.59372100
X-LOCATION-DISPLAYNAME:Washburn
X-ACCESS:1
X-HITS:579
X-COLOR:3366cc
X-SHOW-END-TIME:1
END:VEVENT
BEGIN:VEVENT
DTSTART;VALUE=DATE:20451225
DTEND;VALUE=DATE:20451226
UID:E3B7EF00-B1BA-49A9-ADED-C71915524C08
RECURRENCE-ID;VALUE=DATE:20451225
SUMMARY:Christmas
CREATED:20251015T035708Z
DTSTAMP:20251015T035708Z
URL:https://eviejewelarthur.com/index.php/calender/christmas-2397772800
LAST-MODIFIED:20251015T035709Z
SEQUENCE:1
LOCATION:SR 131 8119\, 37888 Washburn\, Tennessee\, United States
GEO:36.29318990;-83.59372100
X-LOCATION-DISPLAYNAME:Washburn
X-ACCESS:1
X-HITS:571
X-COLOR:3366cc
X-SHOW-END-TIME:1
END:VEVENT
BEGIN:VEVENT
DTSTART;VALUE=DATE:20461225
DTEND;VALUE=DATE:20461226
UID:E3B7EF00-B1BA-49A9-ADED-C71915524C08
RECURRENCE-ID;VALUE=DATE:20461225
SUMMARY:Christmas
CREATED:20251015T035708Z
DTSTAMP:20251015T035708Z
URL:https://eviejewelarthur.com/index.php/calender/christmas-2429308800
LAST-MODIFIED:20251015T035709Z
SEQUENCE:1
LOCATION:SR 131 8119\, 37888 Washburn\, Tennessee\, United States
GEO:36.29318990;-83.59372100
X-LOCATION-DISPLAYNAME:Washburn
X-ACCESS:1
X-HITS:561
X-COLOR:3366cc
X-SHOW-END-TIME:1
END:VEVENT
BEGIN:VEVENT
DTSTART;VALUE=DATE:20471225
DTEND;VALUE=DATE:20471226
UID:E3B7EF00-B1BA-49A9-ADED-C71915524C08
RECURRENCE-ID;VALUE=DATE:20471225
SUMMARY:Christmas
CREATED:20251015T035708Z
DTSTAMP:20251015T035708Z
URL:https://eviejewelarthur.com/index.php/calender/christmas-2460844800
LAST-MODIFIED:20251015T035709Z
SEQUENCE:1
LOCATION:SR 131 8119\, 37888 Washburn\, Tennessee\, United States
GEO:36.29318990;-83.59372100
X-LOCATION-DISPLAYNAME:Washburn
X-ACCESS:1
X-HITS:563
X-COLOR:3366cc
X-SHOW-END-TIME:1
END:VEVENT
BEGIN:VEVENT
DTSTART;VALUE=DATE:20481225
DTEND;VALUE=DATE:20481226
UID:E3B7EF00-B1BA-49A9-ADED-C71915524C08
RECURRENCE-ID;VALUE=DATE:20481225
SUMMARY:Christmas
CREATED:20251015T035708Z
DTSTAMP:20251015T035708Z
URL:https://eviejewelarthur.com/index.php/calender/christmas-2492467200
LAST-MODIFIED:20251015T035709Z
SEQUENCE:1
LOCATION:SR 131 8119\, 37888 Washburn\, Tennessee\, United States
GEO:36.29318990;-83.59372100
X-LOCATION-DISPLAYNAME:Washburn
X-ACCESS:1
X-HITS:560
X-COLOR:3366cc
X-SHOW-END-TIME:1
END:VEVENT
BEGIN:VEVENT
DTSTART;VALUE=DATE:20491225
DTEND;VALUE=DATE:20491226
UID:E3B7EF00-B1BA-49A9-ADED-C71915524C08
RECURRENCE-ID;VALUE=DATE:20491225
SUMMARY:Christmas
CREATED:20251015T035708Z
DTSTAMP:20251015T035708Z
URL:https://eviejewelarthur.com/index.php/calender/christmas-2524003200
LAST-MODIFIED:20251015T035710Z
SEQUENCE:2
LOCATION:SR 131 8119\, 37888 Washburn\, Tennessee\, United States
GEO:36.29318990;-83.59372100
X-LOCATION-DISPLAYNAME:Washburn
X-ACCESS:1
X-HITS:555
X-COLOR:3366cc
X-SHOW-END-TIME:1
END:VEVENT
BEGIN:VEVENT
DTSTART;VALUE=DATE:20260101
DTEND;VALUE=DATE:20260102
RRULE:FREQ=YEARLY;INTERVAL=1;UNTIL=20251215T235900Z
UID:1DE21FBF-6FAE-45DC-8278-EA240A36B2FE
SUMMARY:New Years Day
CREATED:20251015T042348Z
DTSTAMP:20251015T042348Z
URL:https://eviejewelarthur.com/index.php/calender/new-years-day
LAST-MODIFIED:20251015T042348Z
SEQUENCE:0
LOCATION:SR 131 8119\, 37888 Washburn\, Tennessee\, United States
GEO:36.29318990;-83.59372100
X-LOCATION-DISPLAYNAME:Washburn
X-ACCESS:1
X-HITS:4
X-COLOR:3366cc
X-SHOW-END-TIME:1
END:VEVENT
END:VCALENDAR