BEGIN:VCALENDAR
VERSION:2.0
PRODID:DPCALENDAR
CALSCALE:GREGORIAN
X-WR-TIMEZONE:UTC
BEGIN:VEVENT
DTSTART;VALUE=DATE:20251110
DTEND;VALUE=DATE:20251111
RRULE:FREQ=YEARLY;INTERVAL=1;UNTIL=20501217T235900Z
UID:09A9E28C-11BE-4511-B66C-40BC656DE327
SUMMARY:Marine Corps Birthday
CREATED:20251017T205104Z
DTSTAMP:20251017T205104Z
URL:https://eviejewelarthur.com/index.php/calender/marine-corps-birthday
LAST-MODIFIED:20251017T205104Z
SEQUENCE:0
X-ACCESS:1
X-HITS:2
X-COLOR:ccab33
X-SHOW-END-TIME:1
END:VEVENT
BEGIN:VEVENT
DTSTART;VALUE=DATE:20391110
DTEND;VALUE=DATE:20391111
UID:09A9E28C-11BE-4511-B66C-40BC656DE327
RECURRENCE-ID;VALUE=DATE:20391110
SUMMARY:Marine Corps Birthday
CREATED:20251017T205104Z
DTSTAMP:20251017T205104Z
URL:https://eviejewelarthur.com/index.php/calender/marine-corps-birthday-2204496000
LAST-MODIFIED:20251017T205105Z
SEQUENCE:1
X-ACCESS:1
X-HITS:341
X-COLOR:ccab33
X-SHOW-END-TIME:1
END:VEVENT
BEGIN:VEVENT
DTSTART;VALUE=DATE:20401110
DTEND;VALUE=DATE:20401111
UID:09A9E28C-11BE-4511-B66C-40BC656DE327
RECURRENCE-ID;VALUE=DATE:20401110
SUMMARY:Marine Corps Birthday
CREATED:20251017T205104Z
DTSTAMP:20251017T205104Z
URL:https://eviejewelarthur.com/index.php/calender/marine-corps-birthday-2236118400
LAST-MODIFIED:20251017T205105Z
SEQUENCE:1
X-ACCESS:1
X-HITS:345
X-COLOR:ccab33
X-SHOW-END-TIME:1
END:VEVENT
BEGIN:VEVENT
DTSTART;VALUE=DATE:20411110
DTEND;VALUE=DATE:20411111
UID:09A9E28C-11BE-4511-B66C-40BC656DE327
RECURRENCE-ID;VALUE=DATE:20411110
SUMMARY:Marine Corps Birthday
CREATED:20251017T205104Z
DTSTAMP:20251017T205104Z
URL:https://eviejewelarthur.com/index.php/calender/marine-corps-birthday-2267654400
LAST-MODIFIED:20251017T205105Z
SEQUENCE:1
X-ACCESS:1
X-HITS:336
X-COLOR:ccab33
X-SHOW-END-TIME:1
END:VEVENT
BEGIN:VEVENT
DTSTART;VALUE=DATE:20421110
DTEND;VALUE=DATE:20421111
UID:09A9E28C-11BE-4511-B66C-40BC656DE327
RECURRENCE-ID;VALUE=DATE:20421110
SUMMARY:Marine Corps Birthday
CREATED:20251017T205104Z
DTSTAMP:20251017T205104Z
URL:https://eviejewelarthur.com/index.php/calender/marine-corps-birthday-2299190400
LAST-MODIFIED:20251017T205105Z
SEQUENCE:1
X-ACCESS:1
X-HITS:334
X-COLOR:ccab33
X-SHOW-END-TIME:1
END:VEVENT
BEGIN:VEVENT
DTSTART;VALUE=DATE:20431110
DTEND;VALUE=DATE:20431111
UID:09A9E28C-11BE-4511-B66C-40BC656DE327
RECURRENCE-ID;VALUE=DATE:20431110
SUMMARY:Marine Corps Birthday
CREATED:20251017T205104Z
DTSTAMP:20251017T205104Z
URL:https://eviejewelarthur.com/index.php/calender/marine-corps-birthday-2330726400
LAST-MODIFIED:20251017T205105Z
SEQUENCE:1
X-ACCESS:1
X-HITS:330
X-COLOR:ccab33
X-SHOW-END-TIME:1
END:VEVENT
BEGIN:VEVENT
DTSTART;VALUE=DATE:20441110
DTEND;VALUE=DATE:20441111
UID:09A9E28C-11BE-4511-B66C-40BC656DE327
RECURRENCE-ID;VALUE=DATE:20441110
SUMMARY:Marine Corps Birthday
CREATED:20251017T205104Z
DTSTAMP:20251017T205104Z
URL:https://eviejewelarthur.com/index.php/calender/marine-corps-birthday-2362348800
LAST-MODIFIED:20251017T205105Z
SEQUENCE:1
X-ACCESS:1
X-HITS:344
X-COLOR:ccab33
X-SHOW-END-TIME:1
END:VEVENT
BEGIN:VEVENT
DTSTART;VALUE=DATE:20451110
DTEND;VALUE=DATE:20451111
UID:09A9E28C-11BE-4511-B66C-40BC656DE327
RECURRENCE-ID;VALUE=DATE:20451110
SUMMARY:Marine Corps Birthday
CREATED:20251017T205104Z
DTSTAMP:20251017T205104Z
URL:https://eviejewelarthur.com/index.php/calender/marine-corps-birthday-2393884800
LAST-MODIFIED:20251017T205105Z
SEQUENCE:1
X-ACCESS:1
X-HITS:326
X-COLOR:ccab33
X-SHOW-END-TIME:1
END:VEVENT
BEGIN:VEVENT
DTSTART;VALUE=DATE:20461110
DTEND;VALUE=DATE:20461111
UID:09A9E28C-11BE-4511-B66C-40BC656DE327
RECURRENCE-ID;VALUE=DATE:20461110
SUMMARY:Marine Corps Birthday
CREATED:20251017T205104Z
DTSTAMP:20251017T205104Z
URL:https://eviejewelarthur.com/index.php/calender/marine-corps-birthday-2425420800
LAST-MODIFIED:20251017T205105Z
SEQUENCE:1
X-ACCESS:1
X-HITS:338
X-COLOR:ccab33
X-SHOW-END-TIME:1
END:VEVENT
BEGIN:VEVENT
DTSTART;VALUE=DATE:20471110
DTEND;VALUE=DATE:20471111
UID:09A9E28C-11BE-4511-B66C-40BC656DE327
RECURRENCE-ID;VALUE=DATE:20471110
SUMMARY:Marine Corps Birthday
CREATED:20251017T205104Z
DTSTAMP:20251017T205104Z
URL:https://eviejewelarthur.com/index.php/calender/marine-corps-birthday-2456956800
LAST-MODIFIED:20251017T205105Z
SEQUENCE:1
X-ACCESS:1
X-HITS:321
X-COLOR:ccab33
X-SHOW-END-TIME:1
END:VEVENT
BEGIN:VEVENT
DTSTART;VALUE=DATE:20481110
DTEND;VALUE=DATE:20481111
UID:09A9E28C-11BE-4511-B66C-40BC656DE327
RECURRENCE-ID;VALUE=DATE:20481110
SUMMARY:Marine Corps Birthday
CREATED:20251017T205104Z
DTSTAMP:20251017T205104Z
URL:https://eviejewelarthur.com/index.php/calender/marine-corps-birthday-2488579200
LAST-MODIFIED:20251017T205105Z
SEQUENCE:1
X-ACCESS:1
X-HITS:319
X-COLOR:ccab33
X-SHOW-END-TIME:1
END:VEVENT
BEGIN:VEVENT
DTSTART;VALUE=DATE:20491110
DTEND;VALUE=DATE:20491111
UID:09A9E28C-11BE-4511-B66C-40BC656DE327
RECURRENCE-ID;VALUE=DATE:20491110
SUMMARY:Marine Corps Birthday
CREATED:20251017T205104Z
DTSTAMP:20251017T205104Z
URL:https://eviejewelarthur.com/index.php/calender/marine-corps-birthday-2520115200
LAST-MODIFIED:20251017T205105Z
SEQUENCE:1
X-ACCESS:1
X-HITS:314
X-COLOR:ccab33
X-SHOW-END-TIME:1
END:VEVENT
BEGIN:VEVENT
DTSTART;VALUE=DATE:20501110
DTEND;VALUE=DATE:20501111
UID:09A9E28C-11BE-4511-B66C-40BC656DE327
RECURRENCE-ID;VALUE=DATE:20501110
SUMMARY:Marine Corps Birthday
CREATED:20251017T205104Z
DTSTAMP:20251017T205104Z
URL:https://eviejewelarthur.com/index.php/calender/marine-corps-birthday-2551651200
LAST-MODIFIED:20251017T205105Z
SEQUENCE:1
X-ACCESS:1
X-HITS:321
X-COLOR:ccab33
X-SHOW-END-TIME:1
END:VEVENT
BEGIN:VEVENT
DTSTART;VALUE=DATE:20251224
DTEND;VALUE=DATE:20251225
RRULE:FREQ=YEARLY;INTERVAL=1;UNTIL=20501215T235900Z
UID:1FC2D48B-EA4C-4C68-9589-F4D7AB239020
SUMMARY:Christmas Eve
CREATED:20251015T034847Z
DTSTAMP:20251015T034847Z
URL:https://eviejewelarthur.com/index.php/calender/christmas-eve
LAST-MODIFIED:20251015T034847Z
SEQUENCE:0
X-ACCESS:1
X-HITS:4
X-COLOR:ccab33
X-SHOW-END-TIME:1
END:VEVENT
BEGIN:VEVENT
DTSTART;VALUE=DATE:20351224
DTEND;VALUE=DATE:20351225
UID:1FC2D48B-EA4C-4C68-9589-F4D7AB239020
RECURRENCE-ID;VALUE=DATE:20351224
SUMMARY:Christmas Eve
CREATED:20251015T034847Z
DTSTAMP:20251015T034847Z
URL:https://eviejewelarthur.com/index.php/calender/christmas-eve-2082067200
LAST-MODIFIED:20251015T034848Z
SEQUENCE:1
X-ACCESS:1
X-HITS:578
X-COLOR:ccab33
X-SHOW-END-TIME:1
END:VEVENT
BEGIN:VEVENT
DTSTART;VALUE=DATE:20361224
DTEND;VALUE=DATE:20361225
UID:1FC2D48B-EA4C-4C68-9589-F4D7AB239020
RECURRENCE-ID;VALUE=DATE:20361224
SUMMARY:Christmas Eve
CREATED:20251015T034847Z
DTSTAMP:20251015T034847Z
URL:https://eviejewelarthur.com/index.php/calender/christmas-eve-2113689600
LAST-MODIFIED:20251015T034848Z
SEQUENCE:1
X-ACCESS:1
X-HITS:566
X-COLOR:ccab33
X-SHOW-END-TIME:1
END:VEVENT
BEGIN:VEVENT
DTSTART;VALUE=DATE:20371224
DTEND;VALUE=DATE:20371225
UID:1FC2D48B-EA4C-4C68-9589-F4D7AB239020
RECURRENCE-ID;VALUE=DATE:20371224
SUMMARY:Christmas Eve
CREATED:20251015T034847Z
DTSTAMP:20251015T034847Z
URL:https://eviejewelarthur.com/index.php/calender/christmas-eve-2145225600
LAST-MODIFIED:20251015T034848Z
SEQUENCE:1
X-ACCESS:1
X-HITS:557
X-COLOR:ccab33
X-SHOW-END-TIME:1
END:VEVENT
BEGIN:VEVENT
DTSTART;VALUE=DATE:20381224
DTEND;VALUE=DATE:20381225
UID:1FC2D48B-EA4C-4C68-9589-F4D7AB239020
RECURRENCE-ID;VALUE=DATE:20381224
SUMMARY:Christmas Eve
CREATED:20251015T034847Z
DTSTAMP:20251015T034847Z
URL:https://eviejewelarthur.com/index.php/calender/christmas-eve-2176761600
LAST-MODIFIED:20251015T034848Z
SEQUENCE:1
X-ACCESS:1
X-HITS:556
X-COLOR:ccab33
X-SHOW-END-TIME:1
END:VEVENT
BEGIN:VEVENT
DTSTART;VALUE=DATE:20391224
DTEND;VALUE=DATE:20391225
UID:1FC2D48B-EA4C-4C68-9589-F4D7AB239020
RECURRENCE-ID;VALUE=DATE:20391224
SUMMARY:Christmas Eve
CREATED:20251015T034847Z
DTSTAMP:20251015T034847Z
URL:https://eviejewelarthur.com/index.php/calender/christmas-eve-2208297600
LAST-MODIFIED:20251015T034848Z
SEQUENCE:1
X-ACCESS:1
X-HITS:556
X-COLOR:ccab33
X-SHOW-END-TIME:1
END:VEVENT
BEGIN:VEVENT
DTSTART;VALUE=DATE:20401224
DTEND;VALUE=DATE:20401225
UID:1FC2D48B-EA4C-4C68-9589-F4D7AB239020
RECURRENCE-ID;VALUE=DATE:20401224
SUMMARY:Christmas Eve
CREATED:20251015T034847Z
DTSTAMP:20251015T034847Z
URL:https://eviejewelarthur.com/index.php/calender/christmas-eve-2239920000
LAST-MODIFIED:20251015T034848Z
SEQUENCE:1
X-ACCESS:1
X-HITS:555
X-COLOR:ccab33
X-SHOW-END-TIME:1
END:VEVENT
BEGIN:VEVENT
DTSTART;VALUE=DATE:20411224
DTEND;VALUE=DATE:20411225
UID:1FC2D48B-EA4C-4C68-9589-F4D7AB239020
RECURRENCE-ID;VALUE=DATE:20411224
SUMMARY:Christmas Eve
CREATED:20251015T034847Z
DTSTAMP:20251015T034847Z
URL:https://eviejewelarthur.com/index.php/calender/christmas-eve-2271456000
LAST-MODIFIED:20251015T034848Z
SEQUENCE:1
X-ACCESS:1
X-HITS:551
X-COLOR:ccab33
X-SHOW-END-TIME:1
END:VEVENT
BEGIN:VEVENT
DTSTART;VALUE=DATE:20421224
DTEND;VALUE=DATE:20421225
UID:1FC2D48B-EA4C-4C68-9589-F4D7AB239020
RECURRENCE-ID;VALUE=DATE:20421224
SUMMARY:Christmas Eve
CREATED:20251015T034847Z
DTSTAMP:20251015T034847Z
URL:https://eviejewelarthur.com/index.php/calender/christmas-eve-2302992000
LAST-MODIFIED:20251015T034848Z
SEQUENCE:1
X-ACCESS:1
X-HITS:528
X-COLOR:ccab33
X-SHOW-END-TIME:1
END:VEVENT
BEGIN:VEVENT
DTSTART;VALUE=DATE:20431224
DTEND;VALUE=DATE:20431225
UID:1FC2D48B-EA4C-4C68-9589-F4D7AB239020
RECURRENCE-ID;VALUE=DATE:20431224
SUMMARY:Christmas Eve
CREATED:20251015T034847Z
DTSTAMP:20251015T034847Z
URL:https://eviejewelarthur.com/index.php/calender/christmas-eve-2334528000
LAST-MODIFIED:20251015T034848Z
SEQUENCE:1
X-ACCESS:1
X-HITS:537
X-COLOR:ccab33
X-SHOW-END-TIME:1
END:VEVENT
BEGIN:VEVENT
DTSTART;VALUE=DATE:20441224
DTEND;VALUE=DATE:20441225
UID:1FC2D48B-EA4C-4C68-9589-F4D7AB239020
RECURRENCE-ID;VALUE=DATE:20441224
SUMMARY:Christmas Eve
CREATED:20251015T034847Z
DTSTAMP:20251015T034847Z
URL:https://eviejewelarthur.com/index.php/calender/christmas-eve-2366150400
LAST-MODIFIED:20251015T034848Z
SEQUENCE:1
X-ACCESS:1
X-HITS:537
X-COLOR:ccab33
X-SHOW-END-TIME:1
END:VEVENT
BEGIN:VEVENT
DTSTART;VALUE=DATE:20451224
DTEND;VALUE=DATE:20451225
UID:1FC2D48B-EA4C-4C68-9589-F4D7AB239020
RECURRENCE-ID;VALUE=DATE:20451224
SUMMARY:Christmas Eve
CREATED:20251015T034847Z
DTSTAMP:20251015T034847Z
URL:https://eviejewelarthur.com/index.php/calender/christmas-eve-2397686400
LAST-MODIFIED:20251015T034848Z
SEQUENCE:1
X-ACCESS:1
X-HITS:534
X-COLOR:ccab33
X-SHOW-END-TIME:1
END:VEVENT
BEGIN:VEVENT
DTSTART;VALUE=DATE:20461224
DTEND;VALUE=DATE:20461225
UID:1FC2D48B-EA4C-4C68-9589-F4D7AB239020
RECURRENCE-ID;VALUE=DATE:20461224
SUMMARY:Christmas Eve
CREATED:20251015T034847Z
DTSTAMP:20251015T034847Z
URL:https://eviejewelarthur.com/index.php/calender/christmas-eve-2429222400
LAST-MODIFIED:20251015T034848Z
SEQUENCE:1
X-ACCESS:1
X-HITS:537
X-COLOR:ccab33
X-SHOW-END-TIME:1
END:VEVENT
BEGIN:VEVENT
DTSTART;VALUE=DATE:20471224
DTEND;VALUE=DATE:20471225
UID:1FC2D48B-EA4C-4C68-9589-F4D7AB239020
RECURRENCE-ID;VALUE=DATE:20471224
SUMMARY:Christmas Eve
CREATED:20251015T034847Z
DTSTAMP:20251015T034847Z
URL:https://eviejewelarthur.com/index.php/calender/christmas-eve-2460758400
LAST-MODIFIED:20251015T034848Z
SEQUENCE:1
X-ACCESS:1
X-HITS:516
X-COLOR:ccab33
X-SHOW-END-TIME:1
END:VEVENT
BEGIN:VEVENT
DTSTART;VALUE=DATE:20481224
DTEND;VALUE=DATE:20481225
UID:1FC2D48B-EA4C-4C68-9589-F4D7AB239020
RECURRENCE-ID;VALUE=DATE:20481224
SUMMARY:Christmas Eve
CREATED:20251015T034847Z
DTSTAMP:20251015T034847Z
URL:https://eviejewelarthur.com/index.php/calender/christmas-eve-2492380800
LAST-MODIFIED:20251015T034848Z
SEQUENCE:1
X-ACCESS:1
X-HITS:517
X-COLOR:ccab33
X-SHOW-END-TIME:1
END:VEVENT
BEGIN:VEVENT
DTSTART;VALUE=DATE:20491224
DTEND;VALUE=DATE:20491225
UID:1FC2D48B-EA4C-4C68-9589-F4D7AB239020
RECURRENCE-ID;VALUE=DATE:20491224
SUMMARY:Christmas Eve
CREATED:20251015T034847Z
DTSTAMP:20251015T034847Z
URL:https://eviejewelarthur.com/index.php/calender/christmas-eve-2523916800
LAST-MODIFIED:20251015T034848Z
SEQUENCE:1
X-ACCESS:1
X-HITS:519
X-COLOR:ccab33
X-SHOW-END-TIME:1
END:VEVENT
BEGIN:VEVENT
DTSTART;VALUE=DATE:20260621
DTEND;VALUE=DATE:20260622
RRULE:FREQ=YEARLY;INTERVAL=1;UNTIL=20501217T235900Z
UID:6CDE2D8A-5C5B-4620-9F40-8397A8ADDEA5
SUMMARY:Father's Day
CREATED:20251017T205006Z
DTSTAMP:20251017T205006Z
URL:https://eviejewelarthur.com/index.php/calender/fathers-day
LAST-MODIFIED:20251017T205006Z
SEQUENCE:0
X-ACCESS:1
X-HITS:1
X-COLOR:ccab33
X-SHOW-END-TIME:1
END:VEVENT
BEGIN:VEVENT
DTSTART;VALUE=DATE:20420621
DTEND;VALUE=DATE:20420622
UID:6CDE2D8A-5C5B-4620-9F40-8397A8ADDEA5
RECURRENCE-ID;VALUE=DATE:20420621
SUMMARY:Father's Day
CREATED:20251017T205006Z
DTSTAMP:20251017T205006Z
URL:https://eviejewelarthur.com/index.php/calender/fathers-day-2286921600
LAST-MODIFIED:20251017T205007Z
SEQUENCE:1
X-ACCESS:1
X-HITS:308
X-COLOR:ccab33
X-SHOW-END-TIME:1
END:VEVENT
BEGIN:VEVENT
DTSTART;VALUE=DATE:20430621
DTEND;VALUE=DATE:20430622
UID:6CDE2D8A-5C5B-4620-9F40-8397A8ADDEA5
RECURRENCE-ID;VALUE=DATE:20430621
SUMMARY:Father's Day
CREATED:20251017T205006Z
DTSTAMP:20251017T205006Z
URL:https://eviejewelarthur.com/index.php/calender/fathers-day-2318457600
LAST-MODIFIED:20251017T205007Z
SEQUENCE:1
X-ACCESS:1
X-HITS:310
X-COLOR:ccab33
X-SHOW-END-TIME:1
END:VEVENT
BEGIN:VEVENT
DTSTART;VALUE=DATE:20440621
DTEND;VALUE=DATE:20440622
UID:6CDE2D8A-5C5B-4620-9F40-8397A8ADDEA5
RECURRENCE-ID;VALUE=DATE:20440621
SUMMARY:Father's Day
CREATED:20251017T205006Z
DTSTAMP:20251017T205006Z
URL:https://eviejewelarthur.com/index.php/calender/fathers-day-2350080000
LAST-MODIFIED:20251017T205007Z
SEQUENCE:1
X-ACCESS:1
X-HITS:324
X-COLOR:ccab33
X-SHOW-END-TIME:1
END:VEVENT
BEGIN:VEVENT
DTSTART;VALUE=DATE:20450621
DTEND;VALUE=DATE:20450622
UID:6CDE2D8A-5C5B-4620-9F40-8397A8ADDEA5
RECURRENCE-ID;VALUE=DATE:20450621
SUMMARY:Father's Day
CREATED:20251017T205006Z
DTSTAMP:20251017T205006Z
URL:https://eviejewelarthur.com/index.php/calender/fathers-day-2381616000
LAST-MODIFIED:20251017T205007Z
SEQUENCE:1
X-ACCESS:1
X-HITS:334
X-COLOR:ccab33
X-SHOW-END-TIME:1
END:VEVENT
BEGIN:VEVENT
DTSTART;VALUE=DATE:20460621
DTEND;VALUE=DATE:20460622
UID:6CDE2D8A-5C5B-4620-9F40-8397A8ADDEA5
RECURRENCE-ID;VALUE=DATE:20460621
SUMMARY:Father's Day
CREATED:20251017T205006Z
DTSTAMP:20251017T205006Z
URL:https://eviejewelarthur.com/index.php/calender/fathers-day-2413152000
LAST-MODIFIED:20251017T205007Z
SEQUENCE:1
X-ACCESS:1
X-HITS:307
X-COLOR:ccab33
X-SHOW-END-TIME:1
END:VEVENT
BEGIN:VEVENT
DTSTART;VALUE=DATE:20470621
DTEND;VALUE=DATE:20470622
UID:6CDE2D8A-5C5B-4620-9F40-8397A8ADDEA5
RECURRENCE-ID;VALUE=DATE:20470621
SUMMARY:Father's Day
CREATED:20251017T205006Z
DTSTAMP:20251017T205006Z
URL:https://eviejewelarthur.com/index.php/calender/fathers-day-2444688000
LAST-MODIFIED:20251017T205007Z
SEQUENCE:1
X-ACCESS:1
X-HITS:300
X-COLOR:ccab33
X-SHOW-END-TIME:1
END:VEVENT
BEGIN:VEVENT
DTSTART;VALUE=DATE:20480621
DTEND;VALUE=DATE:20480622
UID:6CDE2D8A-5C5B-4620-9F40-8397A8ADDEA5
RECURRENCE-ID;VALUE=DATE:20480621
SUMMARY:Father's Day
CREATED:20251017T205006Z
DTSTAMP:20251017T205006Z
URL:https://eviejewelarthur.com/index.php/calender/fathers-day-2476310400
LAST-MODIFIED:20251017T205007Z
SEQUENCE:1
X-ACCESS:1
X-HITS:294
X-COLOR:ccab33
X-SHOW-END-TIME:1
END:VEVENT
BEGIN:VEVENT
DTSTART;VALUE=DATE:20490621
DTEND;VALUE=DATE:20490622
UID:6CDE2D8A-5C5B-4620-9F40-8397A8ADDEA5
RECURRENCE-ID;VALUE=DATE:20490621
SUMMARY:Father's Day
CREATED:20251017T205006Z
DTSTAMP:20251017T205006Z
URL:https://eviejewelarthur.com/index.php/calender/fathers-day-2507846400
LAST-MODIFIED:20251017T205007Z
SEQUENCE:1
X-ACCESS:1
X-HITS:297
X-COLOR:ccab33
X-SHOW-END-TIME:1
END:VEVENT
BEGIN:VEVENT
DTSTART;VALUE=DATE:20500621
DTEND;VALUE=DATE:20500622
UID:6CDE2D8A-5C5B-4620-9F40-8397A8ADDEA5
RECURRENCE-ID;VALUE=DATE:20500621
SUMMARY:Father's Day
CREATED:20251017T205006Z
DTSTAMP:20251017T205006Z
URL:https://eviejewelarthur.com/index.php/calender/fathers-day-2539382400
LAST-MODIFIED:20251017T205007Z
SEQUENCE:1
X-ACCESS:1
X-HITS:308
X-COLOR:ccab33
X-SHOW-END-TIME:1
END:VEVENT
END:VCALENDAR