BEGIN:VCALENDAR
VERSION:2.0
PRODID:DPCALENDAR
CALSCALE:GREGORIAN
X-WR-TIMEZONE:UTC
BEGIN:VEVENT
DTSTART;VALUE=DATE:20251126
DTEND;VALUE=DATE:20251127
RRULE:FREQ=YEARLY;INTERVAL=1;UNTIL=20501217T235900Z
UID:675ACACE-4F6D-4D14-8EE8-4D2D9E824C10
SUMMARY:Thanksgiving
CREATED:20251017T202010Z
DTSTAMP:20251017T202010Z
URL:https://eviejewelarthur.com/index.php/calender/thanksgiving-2
LAST-MODIFIED:20251017T202010Z
SEQUENCE:0
LOCATION:Kansas\, United States
GEO:39.78373040;-100.44588200
X-LOCATION-DISPLAYNAME:United States
X-ACCESS:1
X-HITS:3
X-COLOR:ff6200
X-SHOW-END-TIME:1
END:VEVENT
BEGIN:VEVENT
DTSTART;VALUE=DATE:20271126
DTEND;VALUE=DATE:20271127
UID:675ACACE-4F6D-4D14-8EE8-4D2D9E824C10
RECURRENCE-ID;VALUE=DATE:20271126
SUMMARY:Thanksgiving
CREATED:20251017T202010Z
DTSTAMP:20251017T202010Z
URL:https://eviejewelarthur.com/index.php/calender/thanksgiving-2-1827187200
LAST-MODIFIED:20251017T202011Z
SEQUENCE:1
LOCATION:Kansas\, United States
GEO:39.78373040;-100.44588200
X-LOCATION-DISPLAYNAME:United States
X-ACCESS:1
X-HITS:586
X-COLOR:ff6200
X-SHOW-END-TIME:1
END:VEVENT
BEGIN:VEVENT
DTSTART;VALUE=DATE:20281126
DTEND;VALUE=DATE:20281127
UID:675ACACE-4F6D-4D14-8EE8-4D2D9E824C10
RECURRENCE-ID;VALUE=DATE:20281126
SUMMARY:Thanksgiving
CREATED:20251017T202010Z
DTSTAMP:20251017T202010Z
URL:https://eviejewelarthur.com/index.php/calender/thanksgiving-2-1858809600
LAST-MODIFIED:20251017T202011Z
SEQUENCE:1
LOCATION:Kansas\, United States
GEO:39.78373040;-100.44588200
X-LOCATION-DISPLAYNAME:United States
X-ACCESS:1
X-HITS:573
X-COLOR:ff6200
X-SHOW-END-TIME:1
END:VEVENT
BEGIN:VEVENT
DTSTART;VALUE=DATE:20291126
DTEND;VALUE=DATE:20291127
UID:675ACACE-4F6D-4D14-8EE8-4D2D9E824C10
RECURRENCE-ID;VALUE=DATE:20291126
SUMMARY:Thanksgiving
CREATED:20251017T202010Z
DTSTAMP:20251017T202010Z
URL:https://eviejewelarthur.com/index.php/calender/thanksgiving-2-1890345600
LAST-MODIFIED:20251017T202011Z
SEQUENCE:1
LOCATION:Kansas\, United States
GEO:39.78373040;-100.44588200
X-LOCATION-DISPLAYNAME:United States
X-ACCESS:1
X-HITS:576
X-COLOR:ff6200
X-SHOW-END-TIME:1
END:VEVENT
BEGIN:VEVENT
DTSTART;VALUE=DATE:20301126
DTEND;VALUE=DATE:20301127
UID:675ACACE-4F6D-4D14-8EE8-4D2D9E824C10
RECURRENCE-ID;VALUE=DATE:20301126
SUMMARY:Thanksgiving
CREATED:20251017T202010Z
DTSTAMP:20251017T202010Z
URL:https://eviejewelarthur.com/index.php/calender/thanksgiving-2-1921881600
LAST-MODIFIED:20251017T202011Z
SEQUENCE:1
LOCATION:Kansas\, United States
GEO:39.78373040;-100.44588200
X-LOCATION-DISPLAYNAME:United States
X-ACCESS:1
X-HITS:585
X-COLOR:ff6200
X-SHOW-END-TIME:1
END:VEVENT
BEGIN:VEVENT
DTSTART;VALUE=DATE:20311126
DTEND;VALUE=DATE:20311127
UID:675ACACE-4F6D-4D14-8EE8-4D2D9E824C10
RECURRENCE-ID;VALUE=DATE:20311126
SUMMARY:Thanksgiving
CREATED:20251017T202010Z
DTSTAMP:20251017T202010Z
URL:https://eviejewelarthur.com/index.php/calender/thanksgiving-2-1953417600
LAST-MODIFIED:20251017T202011Z
SEQUENCE:1
LOCATION:Kansas\, United States
GEO:39.78373040;-100.44588200
X-LOCATION-DISPLAYNAME:United States
X-ACCESS:1
X-HITS:581
X-COLOR:ff6200
X-SHOW-END-TIME:1
END:VEVENT
BEGIN:VEVENT
DTSTART;VALUE=DATE:20321126
DTEND;VALUE=DATE:20321127
UID:675ACACE-4F6D-4D14-8EE8-4D2D9E824C10
RECURRENCE-ID;VALUE=DATE:20321126
SUMMARY:Thanksgiving
CREATED:20251017T202010Z
DTSTAMP:20251017T202010Z
URL:https://eviejewelarthur.com/index.php/calender/thanksgiving-2-1985040000
LAST-MODIFIED:20251017T202012Z
SEQUENCE:2
LOCATION:Kansas\, United States
GEO:39.78373040;-100.44588200
X-LOCATION-DISPLAYNAME:United States
X-ACCESS:1
X-HITS:581
X-COLOR:ff6200
X-SHOW-END-TIME:1
END:VEVENT
BEGIN:VEVENT
DTSTART;VALUE=DATE:20331126
DTEND;VALUE=DATE:20331127
UID:675ACACE-4F6D-4D14-8EE8-4D2D9E824C10
RECURRENCE-ID;VALUE=DATE:20331126
SUMMARY:Thanksgiving
CREATED:20251017T202010Z
DTSTAMP:20251017T202010Z
URL:https://eviejewelarthur.com/index.php/calender/thanksgiving-2-2016576000
LAST-MODIFIED:20251017T202012Z
SEQUENCE:2
LOCATION:Kansas\, United States
GEO:39.78373040;-100.44588200
X-LOCATION-DISPLAYNAME:United States
X-ACCESS:1
X-HITS:572
X-COLOR:ff6200
X-SHOW-END-TIME:1
END:VEVENT
BEGIN:VEVENT
DTSTART;VALUE=DATE:20341126
DTEND;VALUE=DATE:20341127
UID:675ACACE-4F6D-4D14-8EE8-4D2D9E824C10
RECURRENCE-ID;VALUE=DATE:20341126
SUMMARY:Thanksgiving
CREATED:20251017T202010Z
DTSTAMP:20251017T202010Z
URL:https://eviejewelarthur.com/index.php/calender/thanksgiving-2-2048112000
LAST-MODIFIED:20251017T202012Z
SEQUENCE:2
LOCATION:Kansas\, United States
GEO:39.78373040;-100.44588200
X-LOCATION-DISPLAYNAME:United States
X-ACCESS:1
X-HITS:563
X-COLOR:ff6200
X-SHOW-END-TIME:1
END:VEVENT
BEGIN:VEVENT
DTSTART;VALUE=DATE:20351126
DTEND;VALUE=DATE:20351127
UID:675ACACE-4F6D-4D14-8EE8-4D2D9E824C10
RECURRENCE-ID;VALUE=DATE:20351126
SUMMARY:Thanksgiving
CREATED:20251017T202010Z
DTSTAMP:20251017T202010Z
URL:https://eviejewelarthur.com/index.php/calender/thanksgiving-2-2079648000
LAST-MODIFIED:20251017T202012Z
SEQUENCE:2
LOCATION:Kansas\, United States
GEO:39.78373040;-100.44588200
X-LOCATION-DISPLAYNAME:United States
X-ACCESS:1
X-HITS:571
X-COLOR:ff6200
X-SHOW-END-TIME:1
END:VEVENT
BEGIN:VEVENT
DTSTART;VALUE=DATE:20361126
DTEND;VALUE=DATE:20361127
UID:675ACACE-4F6D-4D14-8EE8-4D2D9E824C10
RECURRENCE-ID;VALUE=DATE:20361126
SUMMARY:Thanksgiving
CREATED:20251017T202010Z
DTSTAMP:20251017T202010Z
URL:https://eviejewelarthur.com/index.php/calender/thanksgiving-2-2111270400
LAST-MODIFIED:20251017T202013Z
SEQUENCE:3
LOCATION:Kansas\, United States
GEO:39.78373040;-100.44588200
X-LOCATION-DISPLAYNAME:United States
X-ACCESS:1
X-HITS:566
X-COLOR:ff6200
X-SHOW-END-TIME:1
END:VEVENT
BEGIN:VEVENT
DTSTART;VALUE=DATE:20371126
DTEND;VALUE=DATE:20371127
UID:675ACACE-4F6D-4D14-8EE8-4D2D9E824C10
RECURRENCE-ID;VALUE=DATE:20371126
SUMMARY:Thanksgiving
CREATED:20251017T202010Z
DTSTAMP:20251017T202010Z
URL:https://eviejewelarthur.com/index.php/calender/thanksgiving-2-2142806400
LAST-MODIFIED:20251017T202013Z
SEQUENCE:3
LOCATION:Kansas\, United States
GEO:39.78373040;-100.44588200
X-LOCATION-DISPLAYNAME:United States
X-ACCESS:1
X-HITS:558
X-COLOR:ff6200
X-SHOW-END-TIME:1
END:VEVENT
BEGIN:VEVENT
DTSTART;VALUE=DATE:20381126
DTEND;VALUE=DATE:20381127
UID:675ACACE-4F6D-4D14-8EE8-4D2D9E824C10
RECURRENCE-ID;VALUE=DATE:20381126
SUMMARY:Thanksgiving
CREATED:20251017T202010Z
DTSTAMP:20251017T202010Z
URL:https://eviejewelarthur.com/index.php/calender/thanksgiving-2-2174342400
LAST-MODIFIED:20251017T202013Z
SEQUENCE:3
LOCATION:Kansas\, United States
GEO:39.78373040;-100.44588200
X-LOCATION-DISPLAYNAME:United States
X-ACCESS:1
X-HITS:559
X-COLOR:ff6200
X-SHOW-END-TIME:1
END:VEVENT
BEGIN:VEVENT
DTSTART;VALUE=DATE:20391126
DTEND;VALUE=DATE:20391127
UID:675ACACE-4F6D-4D14-8EE8-4D2D9E824C10
RECURRENCE-ID;VALUE=DATE:20391126
SUMMARY:Thanksgiving
CREATED:20251017T202010Z
DTSTAMP:20251017T202010Z
URL:https://eviejewelarthur.com/index.php/calender/thanksgiving-2-2205878400
LAST-MODIFIED:20251017T202013Z
SEQUENCE:3
LOCATION:Kansas\, United States
GEO:39.78373040;-100.44588200
X-LOCATION-DISPLAYNAME:United States
X-ACCESS:1
X-HITS:569
X-COLOR:ff6200
X-SHOW-END-TIME:1
END:VEVENT
BEGIN:VEVENT
DTSTART;VALUE=DATE:20401126
DTEND;VALUE=DATE:20401127
UID:675ACACE-4F6D-4D14-8EE8-4D2D9E824C10
RECURRENCE-ID;VALUE=DATE:20401126
SUMMARY:Thanksgiving
CREATED:20251017T202010Z
DTSTAMP:20251017T202010Z
URL:https://eviejewelarthur.com/index.php/calender/thanksgiving-2-2237500800
LAST-MODIFIED:20251017T202013Z
SEQUENCE:3
LOCATION:Kansas\, United States
GEO:39.78373040;-100.44588200
X-LOCATION-DISPLAYNAME:United States
X-ACCESS:1
X-HITS:569
X-COLOR:ff6200
X-SHOW-END-TIME:1
END:VEVENT
BEGIN:VEVENT
DTSTART;VALUE=DATE:20411126
DTEND;VALUE=DATE:20411127
UID:675ACACE-4F6D-4D14-8EE8-4D2D9E824C10
RECURRENCE-ID;VALUE=DATE:20411126
SUMMARY:Thanksgiving
CREATED:20251017T202010Z
DTSTAMP:20251017T202010Z
URL:https://eviejewelarthur.com/index.php/calender/thanksgiving-2-2269036800
LAST-MODIFIED:20251017T202014Z
SEQUENCE:4
LOCATION:Kansas\, United States
GEO:39.78373040;-100.44588200
X-LOCATION-DISPLAYNAME:United States
X-ACCESS:1
X-HITS:540
X-COLOR:ff6200
X-SHOW-END-TIME:1
END:VEVENT
BEGIN:VEVENT
DTSTART;VALUE=DATE:20421126
DTEND;VALUE=DATE:20421127
UID:675ACACE-4F6D-4D14-8EE8-4D2D9E824C10
RECURRENCE-ID;VALUE=DATE:20421126
SUMMARY:Thanksgiving
CREATED:20251017T202010Z
DTSTAMP:20251017T202010Z
URL:https://eviejewelarthur.com/index.php/calender/thanksgiving-2-2300572800
LAST-MODIFIED:20251017T202014Z
SEQUENCE:4
LOCATION:Kansas\, United States
GEO:39.78373040;-100.44588200
X-LOCATION-DISPLAYNAME:United States
X-ACCESS:1
X-HITS:541
X-COLOR:ff6200
X-SHOW-END-TIME:1
END:VEVENT
BEGIN:VEVENT
DTSTART;VALUE=DATE:20431126
DTEND;VALUE=DATE:20431127
UID:675ACACE-4F6D-4D14-8EE8-4D2D9E824C10
RECURRENCE-ID;VALUE=DATE:20431126
SUMMARY:Thanksgiving
CREATED:20251017T202010Z
DTSTAMP:20251017T202010Z
URL:https://eviejewelarthur.com/index.php/calender/thanksgiving-2-2332108800
LAST-MODIFIED:20251017T202014Z
SEQUENCE:4
LOCATION:Kansas\, United States
GEO:39.78373040;-100.44588200
X-LOCATION-DISPLAYNAME:United States
X-ACCESS:1
X-HITS:539
X-COLOR:ff6200
X-SHOW-END-TIME:1
END:VEVENT
BEGIN:VEVENT
DTSTART;VALUE=DATE:20441126
DTEND;VALUE=DATE:20441127
UID:675ACACE-4F6D-4D14-8EE8-4D2D9E824C10
RECURRENCE-ID;VALUE=DATE:20441126
SUMMARY:Thanksgiving
CREATED:20251017T202010Z
DTSTAMP:20251017T202010Z
URL:https://eviejewelarthur.com/index.php/calender/thanksgiving-2-2363731200
LAST-MODIFIED:20251017T202014Z
SEQUENCE:4
LOCATION:Kansas\, United States
GEO:39.78373040;-100.44588200
X-LOCATION-DISPLAYNAME:United States
X-ACCESS:1
X-HITS:548
X-COLOR:ff6200
X-SHOW-END-TIME:1
END:VEVENT
BEGIN:VEVENT
DTSTART;VALUE=DATE:20451126
DTEND;VALUE=DATE:20451127
UID:675ACACE-4F6D-4D14-8EE8-4D2D9E824C10
RECURRENCE-ID;VALUE=DATE:20451126
SUMMARY:Thanksgiving
CREATED:20251017T202010Z
DTSTAMP:20251017T202010Z
URL:https://eviejewelarthur.com/index.php/calender/thanksgiving-2-2395267200
LAST-MODIFIED:20251017T202015Z
SEQUENCE:5
LOCATION:Kansas\, United States
GEO:39.78373040;-100.44588200
X-LOCATION-DISPLAYNAME:United States
X-ACCESS:1
X-HITS:552
X-COLOR:ff6200
X-SHOW-END-TIME:1
END:VEVENT
BEGIN:VEVENT
DTSTART;VALUE=DATE:20461126
DTEND;VALUE=DATE:20461127
UID:675ACACE-4F6D-4D14-8EE8-4D2D9E824C10
RECURRENCE-ID;VALUE=DATE:20461126
SUMMARY:Thanksgiving
CREATED:20251017T202010Z
DTSTAMP:20251017T202010Z
URL:https://eviejewelarthur.com/index.php/calender/thanksgiving-2-2426803200
LAST-MODIFIED:20251017T202015Z
SEQUENCE:5
LOCATION:Kansas\, United States
GEO:39.78373040;-100.44588200
X-LOCATION-DISPLAYNAME:United States
X-ACCESS:1
X-HITS:544
X-COLOR:ff6200
X-SHOW-END-TIME:1
END:VEVENT
BEGIN:VEVENT
DTSTART;VALUE=DATE:20471126
DTEND;VALUE=DATE:20471127
UID:675ACACE-4F6D-4D14-8EE8-4D2D9E824C10
RECURRENCE-ID;VALUE=DATE:20471126
SUMMARY:Thanksgiving
CREATED:20251017T202010Z
DTSTAMP:20251017T202010Z
URL:https://eviejewelarthur.com/index.php/calender/thanksgiving-2-2458339200
LAST-MODIFIED:20251017T202015Z
SEQUENCE:5
LOCATION:Kansas\, United States
GEO:39.78373040;-100.44588200
X-LOCATION-DISPLAYNAME:United States
X-ACCESS:1
X-HITS:537
X-COLOR:ff6200
X-SHOW-END-TIME:1
END:VEVENT
BEGIN:VEVENT
DTSTART;VALUE=DATE:20481126
DTEND;VALUE=DATE:20481127
UID:675ACACE-4F6D-4D14-8EE8-4D2D9E824C10
RECURRENCE-ID;VALUE=DATE:20481126
SUMMARY:Thanksgiving
CREATED:20251017T202010Z
DTSTAMP:20251017T202010Z
URL:https://eviejewelarthur.com/index.php/calender/thanksgiving-2-2489961600
LAST-MODIFIED:20251017T202015Z
SEQUENCE:5
LOCATION:Kansas\, United States
GEO:39.78373040;-100.44588200
X-LOCATION-DISPLAYNAME:United States
X-ACCESS:1
X-HITS:547
X-COLOR:ff6200
X-SHOW-END-TIME:1
END:VEVENT
BEGIN:VEVENT
DTSTART;VALUE=DATE:20491126
DTEND;VALUE=DATE:20491127
UID:675ACACE-4F6D-4D14-8EE8-4D2D9E824C10
RECURRENCE-ID;VALUE=DATE:20491126
SUMMARY:Thanksgiving
CREATED:20251017T202010Z
DTSTAMP:20251017T202010Z
URL:https://eviejewelarthur.com/index.php/calender/thanksgiving-2-2521497600
LAST-MODIFIED:20251017T202015Z
SEQUENCE:5
LOCATION:Kansas\, United States
GEO:39.78373040;-100.44588200
X-LOCATION-DISPLAYNAME:United States
X-ACCESS:1
X-HITS:518
X-COLOR:ff6200
X-SHOW-END-TIME:1
END:VEVENT
BEGIN:VEVENT
DTSTART;VALUE=DATE:20501126
DTEND;VALUE=DATE:20501127
UID:675ACACE-4F6D-4D14-8EE8-4D2D9E824C10
RECURRENCE-ID;VALUE=DATE:20501126
SUMMARY:Thanksgiving
CREATED:20251017T202010Z
DTSTAMP:20251017T202010Z
URL:https://eviejewelarthur.com/index.php/calender/thanksgiving-2-2553033600
LAST-MODIFIED:20251017T202016Z
SEQUENCE:6
LOCATION:Kansas\, United States
GEO:39.78373040;-100.44588200
X-LOCATION-DISPLAYNAME:United States
X-ACCESS:1
X-HITS:541
X-COLOR:ff6200
X-SHOW-END-TIME:1
END:VEVENT
BEGIN:VEVENT
DTSTART;VALUE=DATE:20260119
DTEND;VALUE=DATE:20260120
UID:01744A6D-5883-4815-84D3-6CA11263E45C
SUMMARY:MLK Birthday
CREATED:20251017T200348Z
DTSTAMP:20251017T200348Z
URL:https://eviejewelarthur.com/index.php/calender/mlk-birthday
LAST-MODIFIED:20251017T200348Z
SEQUENCE:0
LOCATION:Kansas\, United States
GEO:39.78373040;-100.44588200
X-LOCATION-DISPLAYNAME:United States
X-ACCESS:1
X-HITS:645
X-COLOR:ff6200
X-SHOW-END-TIME:1
END:VEVENT
BEGIN:VEVENT
DTSTART;VALUE=DATE:20260216
DTEND;VALUE=DATE:20260217
UID:0F257C25-E789-47CC-A9C2-BCB4C98754F9
SUMMARY:Washingtons Birthday
CREATED:20251017T200602Z
DTSTAMP:20251017T200602Z
URL:https://eviejewelarthur.com/index.php/calender/washingtons-birthday
LAST-MODIFIED:20251017T200602Z
SEQUENCE:0
LOCATION:Ellipse Road Northwest\, 20230 Washington\, District of Columbia\, United States
GEO:38.89503680;-77.03654270
X-LOCATION-DISPLAYNAME:Washington
X-ACCESS:1
X-HITS:664
X-COLOR:ff6200
X-SHOW-END-TIME:1
END:VEVENT
BEGIN:VEVENT
DTSTART;VALUE=DATE:20260525
DTEND;VALUE=DATE:20260526
UID:BB4304FF-322C-47EB-8F86-A15FF4230851
SUMMARY:Memorial Day
CREATED:20251017T200730Z
DTSTAMP:20251017T200730Z
URL:https://eviejewelarthur.com/index.php/calender/memorial-day
LAST-MODIFIED:20251017T200730Z
SEQUENCE:0
LOCATION:Kansas\, United States
GEO:39.78373040;-100.44588200
X-LOCATION-DISPLAYNAME:United States
X-ACCESS:1
X-HITS:577
X-COLOR:ff6200
X-SHOW-END-TIME:1
END:VEVENT
BEGIN:VEVENT
DTSTART;VALUE=DATE:20260703
DTEND;VALUE=DATE:20260705
UID:1D75847D-5DB1-4E64-AE5A-CD0782F18FC4
SUMMARY:Independence Day
CREATED:20251017T200923Z
DTSTAMP:20251017T200923Z
URL:https://eviejewelarthur.com/index.php/calender/independence-day
LAST-MODIFIED:20251017T200923Z
SEQUENCE:0
LOCATION:Kansas\, United States
GEO:39.78373040;-100.44588200
X-LOCATION-DISPLAYNAME:United States
X-ACCESS:1
X-HITS:551
X-COLOR:ff6200
X-SHOW-END-TIME:1
END:VEVENT
BEGIN:VEVENT
DTSTART;VALUE=DATE:20260907
DTEND;VALUE=DATE:20260908
UID:886ED17D-080D-4C71-9779-527BC8DE270A
SUMMARY:Labor day
CREATED:20251017T201101Z
DTSTAMP:20251017T201101Z
URL:https://eviejewelarthur.com/index.php/calender/labor-day
LAST-MODIFIED:20251017T201101Z
SEQUENCE:0
LOCATION:Kansas\, United States
GEO:39.78373040;-100.44588200
X-LOCATION-DISPLAYNAME:United States
X-ACCESS:1
X-HITS:543
X-COLOR:ff6200
X-SHOW-END-TIME:1
END:VEVENT
BEGIN:VEVENT
DTSTART;VALUE=DATE:20261012
DTEND;VALUE=DATE:20261013
UID:5844FFF7-193B-4625-97CC-5BC14F58E131
SUMMARY:Columbus day
CREATED:20251017T201302Z
DTSTAMP:20251017T201302Z
URL:https://eviejewelarthur.com/index.php/calender/columbus-day
LAST-MODIFIED:20251017T201302Z
SEQUENCE:0
LOCATION:Kansas\, United States
GEO:39.78373040;-100.44588200
X-LOCATION-DISPLAYNAME:United States
X-ACCESS:1
X-HITS:546
X-COLOR:ff6200
X-SHOW-END-TIME:1
END:VEVENT
BEGIN:VEVENT
DTSTART;VALUE=DATE:20261111
DTEND;VALUE=DATE:20261112
UID:BE6016A1-F792-4956-8A9C-7591B6B3AA7C
SUMMARY:Veterans Day
CREATED:20251017T201428Z
DTSTAMP:20251017T201428Z
URL:https://eviejewelarthur.com/index.php/calender/veterans-day
LAST-MODIFIED:20251017T201428Z
SEQUENCE:0
LOCATION:Kansas\, United States
GEO:39.78373040;-100.44588200
X-LOCATION-DISPLAYNAME:United States
X-ACCESS:1
X-HITS:540
X-COLOR:ff6200
X-SHOW-END-TIME:1
END:VEVENT
BEGIN:VEVENT
DTSTART;VALUE=DATE:20261126
DTEND;VALUE=DATE:20261127
UID:B0487A05-33C1-46A7-94CE-B5411D42C186
SUMMARY:Thanksgiving
CREATED:20251017T201550Z
DTSTAMP:20251017T201550Z
URL:https://eviejewelarthur.com/index.php/calender/thanksgiving
LAST-MODIFIED:20251017T201550Z
SEQUENCE:0
LOCATION:Kansas\, United States
GEO:39.78373040;-100.44588200
X-LOCATION-DISPLAYNAME:United States
X-ACCESS:1
X-HITS:488
X-COLOR:ff6200
X-SHOW-END-TIME:1
END:VEVENT
END:VCALENDAR